BEGIN:VCALENDAR
VERSION:2.0
PRODID:-//The Craft &amp; Co - ECPv4.6.9//NONSGML v1.0//EN
CALSCALE:GREGORIAN
METHOD:PUBLISH
X-WR-CALNAME:The Craft &amp; Co
X-ORIGINAL-URL:http://www.thecraftandco.com.au
X-WR-CALDESC:Events for The Craft &amp; Co
BEGIN:VEVENT
DTSTART;TZID=UTC+11:20180315T180000
DTEND;TZID=UTC+11:20180315T203000
DTSTAMP:20180226T172822
CREATED:20180201T215527Z
LAST-MODIFIED:20180208T020813Z
UID:3744-1521136800-1521145800@www.thecraftandco.com.au
SUMMARY:Cheese Class (Mozzarella/Provola)
DESCRIPTION:Work with our in house cheesemakers to fashion your own curds in this hands-on session focussing on mozzarella and provola cheese. \nThese classes give you the basics on creating your own cows milk cheeses at home\, whilst also covering the fundamentals of cheese making overall. Included in the ticket price is a beverage on arrival made by The Craft & Co and a selection of house-made charcuterie & cheese. \n
URL:http://www.thecraftandco.com.au/event/cheese-class-mozzarella-provola/
LOCATION:390 Smith St\, Collingwood\, Victoria\, 3066\, Australia
GEO:-37.797026;144.984831
X-APPLE-STRUCTURED-LOCATION;VALUE=URI;X-ADDRESS=390 Smith St Collingwood Victoria 3066 Australia;X-APPLE-RADIUS=500;X-TITLE=390 Smith St:geo:144.984831,-37.797026
ATTACH;FMTTYPE=image/jpeg:http://www.thecraftandco.com.au/wp-content/uploads/2018/02/mozzarella_thats_amore.jpg
ORGANIZER;CN="The%20Craft%20%26%20Co":MAILTO:info@thecraftandco.com.au
END:VEVENT
BEGIN:VEVENT
DTSTART;TZID=UTC+11:20180315T180000
DTEND;TZID=UTC+11:20180315T203000
DTSTAMP:20180226T172822
CREATED:20180201T221111Z
LAST-MODIFIED:20180208T000501Z
UID:3751-1521136800-1521145800@www.thecraftandco.com.au
SUMMARY:Limoncello Class
DESCRIPTION:This is a practical class run by our distillery team where we teach you how limoncello is made.\nWe will guide you through the management and preparation of the ingredients and discuss the recipe we use\, while you prepare the citrus\, botanicals and alcohol. Each participant will receive their own bottle of limoncello to enjoy at home! \n
URL:http://www.thecraftandco.com.au/event/limoncello-class/
LOCATION:390 Smith St\, Collingwood\, Victoria\, 3066\, Australia
GEO:-37.797026;144.984831
X-APPLE-STRUCTURED-LOCATION;VALUE=URI;X-ADDRESS=390 Smith St Collingwood Victoria 3066 Australia;X-APPLE-RADIUS=500;X-TITLE=390 Smith St:geo:144.984831,-37.797026
ATTACH;FMTTYPE=image/jpeg:http://www.thecraftandco.com.au/wp-content/uploads/2018/02/limoncello_melbourne.jpg
ORGANIZER;CN="The%20Craft%20%26%20Co":MAILTO:info@thecraftandco.com.au
END:VEVENT
BEGIN:VEVENT
DTSTART;TZID=UTC+11:20180322T180000
DTEND;TZID=UTC+11:20180322T200000
DTSTAMP:20180226T172822
CREATED:20180201T052825Z
LAST-MODIFIED:20180208T014404Z
UID:3716-1521741600-1521748800@www.thecraftandco.com.au
SUMMARY:Pasta Class (Filled Pasta)
DESCRIPTION:Master the art of making your own fresh pasta! This hands on class takes you through all you need to know about making filled pasta. With expert guidance this workshop is designed to get you making pasta at home like a pro! \nRoll up your sleeves and put some muscle into making your own dough as we discuss the history of pasta shapes and regional origins\, offer tips on how to knead\, fold\, cut and roll to achieve the pasta shape\, and look at when to use the different cuts of pasta and sauce styles to suit. Also included in the ticket price is a beverage on arrival made by The Craft & Co and a selection of house-made charcuterie & cheese. \n
URL:http://www.thecraftandco.com.au/event/pasta-class-filled-pasta/
LOCATION:390 Smith St\, Collingwood\, Victoria\, 3066\, Australia
GEO:-37.797026;144.984831
X-APPLE-STRUCTURED-LOCATION;VALUE=URI;X-ADDRESS=390 Smith St Collingwood Victoria 3066 Australia;X-APPLE-RADIUS=500;X-TITLE=390 Smith St:geo:144.984831,-37.797026
ATTACH;FMTTYPE=image/jpeg:http://www.thecraftandco.com.au/wp-content/uploads/2018/02/Pasta-Making-web-63.jpg
ORGANIZER;CN="The%20Craft%20%26%20Co":MAILTO:info@thecraftandco.com.au
END:VEVENT
BEGIN:VEVENT
DTSTART;TZID=UTC+11:20180322T180000
DTEND;TZID=UTC+11:20180322T200000
DTSTAMP:20180226T172822
CREATED:20180202T011227Z
LAST-MODIFIED:20180216T040454Z
UID:3802-1521741600-1521748800@www.thecraftandco.com.au
SUMMARY:Brewing Class
DESCRIPTION:All Grain Brewing is all about flavour. Extracting sugars from malted grains is the basis for making many beers and spirits. \nThis informative and interactive class teaches you to make your own fresh wort to use at home in your next brew! Working in small groups\, you will get to determine the style of beer you want to make and then be guided through the process of creating your own fresh wort recipe. \nOur brewers will walk you through; extract brewing\, the selection of ingredients\, the roles they play in different styles of beer and the equipment commonly used. \nAt the conclusion of the session\, participants will have their own fresh wort to complete the brewing process at home and create their very own craft beer to share with friends and family! Complete the experience and quench your thirst with a tasting of our brews and house-made charcuterie and cheese. \n
URL:http://www.thecraftandco.com.au/event/brewing-class-2/
LOCATION:390 Smith St\, Collingwood\, Victoria\, 3066\, Australia
GEO:-37.797026;144.984831
X-APPLE-STRUCTURED-LOCATION;VALUE=URI;X-ADDRESS=390 Smith St Collingwood Victoria 3066 Australia;X-APPLE-RADIUS=500;X-TITLE=390 Smith St:geo:144.984831,-37.797026
ATTACH;FMTTYPE=image/jpeg:http://www.thecraftandco.com.au/wp-content/uploads/2018/02/Beer-Making-13-web.jpg
ORGANIZER;CN="The%20Craft%20%26%20Co":MAILTO:info@thecraftandco.com.au
END:VEVENT
BEGIN:VEVENT
DTSTART;TZID=UTC+11:20180408T100000
DTEND;TZID=UTC+11:20180408T120000
DTSTAMP:20180226T172822
CREATED:20180201T231253Z
LAST-MODIFIED:20180208T000341Z
UID:3759-1523181600-1523188800@www.thecraftandco.com.au
SUMMARY:Kids Class (Bread & Pizza)
DESCRIPTION:Bring your kids along for a fun-filled class where we teach them basic principles of making bread and pizza! \nWorking in small groups\, they will be able to get hands dirty and work under the supervision of our experienced team. We will finish this class off with a freshly cooked pizza for the kids to share and a soft drink of their choice. \n
URL:http://www.thecraftandco.com.au/event/kids-class-bread-pizza/
LOCATION:390 Smith St\, Collingwood\, Victoria\, 3066\, Australia
GEO:-37.797026;144.984831
X-APPLE-STRUCTURED-LOCATION;VALUE=URI;X-ADDRESS=390 Smith St Collingwood Victoria 3066 Australia;X-APPLE-RADIUS=500;X-TITLE=390 Smith St:geo:144.984831,-37.797026
ATTACH;FMTTYPE=image/jpeg:http://www.thecraftandco.com.au/wp-content/uploads/2018/02/kneading-pizza-dough.jpeg
ORGANIZER;CN="The%20Craft%20%26%20Co":MAILTO:info@thecraftandco.com.au
END:VEVENT
BEGIN:VEVENT
DTSTART;TZID=UTC+11:20180419T180000
DTEND;TZID=UTC+11:20180419T203000
DTSTAMP:20180226T172822
CREATED:20180201T232644Z
LAST-MODIFIED:20180207T234114Z
UID:3768-1524160800-1524169800@www.thecraftandco.com.au
SUMMARY:Gin Class
DESCRIPTION:It’s the class you demanded – and we listened! Come and be a distiller with us for an evening. \nWorking in groups of 2 on our mini stills\, you’ll get to make your very own gin. Throughout the evening we’ll discuss the colourful history of gin and the way botanicals both modern and traditional contribute to the flavour and style of a gin. With new knowledge at hand\, deliberate over botanical selection and flavour alchemy before putting it all together as your own recipe and watch the magic of distillation happen before your very eyes! You’ll even get to wax seal your own signature gin in a 200ml bottle\, ready to make your favourite G&T\, negroni or martini. Complete the experience with a tasting of house-produced drinks\, matched with charcuterie and cheese. \n
URL:http://www.thecraftandco.com.au/event/gin-class/
LOCATION:390 Smith St\, Collingwood\, Victoria\, 3066\, Australia
GEO:-37.797026;144.984831
X-APPLE-STRUCTURED-LOCATION;VALUE=URI;X-ADDRESS=390 Smith St Collingwood Victoria 3066 Australia;X-APPLE-RADIUS=500;X-TITLE=390 Smith St:geo:144.984831,-37.797026
ATTACH;FMTTYPE=image/jpeg:http://www.thecraftandco.com.au/wp-content/uploads/2018/02/distillation_class_melbourne.jpg
ORGANIZER;CN="The%20Craft%20%26%20Co":MAILTO:info@thecraftandco.com.au
END:VEVENT
BEGIN:VEVENT
DTSTART;TZID=UTC+11:20180419T180000
DTEND;TZID=UTC+11:20180419T200000
DTSTAMP:20180226T172822
CREATED:20180202T013154Z
LAST-MODIFIED:20180208T014329Z
UID:3816-1524160800-1524168000@www.thecraftandco.com.au
SUMMARY:Pasta Class (Filled Pasta)
DESCRIPTION:Master the art of making your own fresh pasta! This hands on class takes you through all you need to know about making filled pasta. With expert guidance this workshop is designed to get you making pasta at home like a pro! \nRoll up your sleeves and put some muscle into making your own dough as we discuss the history of pasta shapes and regional origins\, offer tips on how to knead\, fold\, cut and roll to achieve the pasta shape\, and look at when to use the different cuts of pasta and sauce styles to suit. Also included in the ticket price is a beverage on arrival made by The Craft & Co and a selection of house-made charcuterie & cheese. \n
URL:http://www.thecraftandco.com.au/event/pasta-class-filled-pasta-2/
LOCATION:390 Smith St\, Collingwood\, Victoria\, 3066\, Australia
GEO:-37.797026;144.984831
X-APPLE-STRUCTURED-LOCATION;VALUE=URI;X-ADDRESS=390 Smith St Collingwood Victoria 3066 Australia;X-APPLE-RADIUS=500;X-TITLE=390 Smith St:geo:144.984831,-37.797026
ATTACH;FMTTYPE=image/jpeg:http://www.thecraftandco.com.au/wp-content/uploads/2018/02/Pasta-Making-web-63.jpg
ORGANIZER;CN="The%20Craft%20%26%20Co":MAILTO:info@thecraftandco.com.au
END:VEVENT
BEGIN:VEVENT
DTSTART;TZID=UTC+11:20180426T180000
DTEND;TZID=UTC+11:20180426T203000
DTSTAMP:20180226T172822
CREATED:20180201T234024Z
LAST-MODIFIED:20180208T020731Z
UID:3776-1524765600-1524774600@www.thecraftandco.com.au
SUMMARY:Cheese Class (Brie)
DESCRIPTION:Work with our in house cheesemakers to fashion your own curds in this hands-on session focussing on Brie. \nThese classes give you the basics on creating your own Brie at home\, whilst also covering the fundamentals of cheese making overall. Included in the ticket price is a beverage on arrival made by The Craft & Co and a selection of house-made charcuterie & cheese. \n
URL:http://www.thecraftandco.com.au/event/cheese-class-blue-cheese/
LOCATION:390 Smith St\, Collingwood\, Victoria\, 3066\, Australia
GEO:-37.797026;144.984831
X-APPLE-STRUCTURED-LOCATION;VALUE=URI;X-ADDRESS=390 Smith St Collingwood Victoria 3066 Australia;X-APPLE-RADIUS=500;X-TITLE=390 Smith St:geo:144.984831,-37.797026
ATTACH;FMTTYPE=image/jpeg:http://www.thecraftandco.com.au/wp-content/uploads/2018/02/Cheese-Making-18.jpg
ORGANIZER;CN="The%20Craft%20%26%20Co":MAILTO:info@thecraftandco.com.au
END:VEVENT
BEGIN:VEVENT
DTSTART;TZID=UTC+11:20180426T180000
DTEND;TZID=UTC+11:20180426T200000
DTSTAMP:20180226T172822
CREATED:20180202T011407Z
LAST-MODIFIED:20180216T040418Z
UID:3805-1524765600-1524772800@www.thecraftandco.com.au
SUMMARY:Brewing Class
DESCRIPTION:All Grain Brewing is all about flavour. Extracting sugars from malted grains is the basis for making many beers and spirits. \nThis informative and interactive class teaches you to make your own fresh wort to use at home in your next brew! Working in small groups\, you will get to determine the style of beer you want to make and then be guided through the process of creating your own fresh wort recipe. \nOur brewers will walk you through; extract brewing\, the selection of ingredients\, the roles they play in different styles of beer and the equipment commonly used. \nAt the conclusion of the session\, participants will have their own fresh wort to complete the brewing process at home and create their very own craft beer to share with friends and family! Complete the experience and quench your thirst with a tasting of our brews and house-made charcuterie and cheese. \n
URL:http://www.thecraftandco.com.au/event/brewing-class-3/
LOCATION:390 Smith St\, Collingwood\, Victoria\, 3066\, Australia
GEO:-37.797026;144.984831
X-APPLE-STRUCTURED-LOCATION;VALUE=URI;X-ADDRESS=390 Smith St Collingwood Victoria 3066 Australia;X-APPLE-RADIUS=500;X-TITLE=390 Smith St:geo:144.984831,-37.797026
ATTACH;FMTTYPE=image/jpeg:http://www.thecraftandco.com.au/wp-content/uploads/2018/02/Beer-Making-13-web.jpg
ORGANIZER;CN="The%20Craft%20%26%20Co":MAILTO:info@thecraftandco.com.au
END:VEVENT
BEGIN:VEVENT
DTSTART;TZID=UTC+11:20180510T180000
DTEND;TZID=UTC+11:20180510T200000
DTSTAMP:20180226T172822
CREATED:20180201T234817Z
LAST-MODIFIED:20180208T014204Z
UID:3780-1525975200-1525982400@www.thecraftandco.com.au
SUMMARY:Pasta Class (Long Pasta)
DESCRIPTION:Master the art of making your own fresh pasta! This hands on class takes you through all you need to know about making longer-styled pasta. With expert guidance this workshop is designed to get you making pasta at home like a pro! \nRoll up your sleeves and put some muscle into making your own dough as we discuss the history of pasta shapes and regional origins\, offer tips on how to knead\, fold\, cut and roll to achieve the pasta shape\, and look at when to use the different cuts of pasta and sauce styles to suit. Also included in the ticket price is a beverage on arrival made by The Craft & Co and a selection of house-made charcuterie & cheese. \n
URL:http://www.thecraftandco.com.au/event/pasta-class-long-pasta/
LOCATION:Victoria
ATTACH;FMTTYPE=image/jpeg:http://www.thecraftandco.com.au/wp-content/uploads/2018/02/Pasta-Making-web-35.jpg
END:VEVENT
BEGIN:VEVENT
DTSTART;TZID=UTC+11:20180510T180000
DTEND;TZID=UTC+11:20180510T203000
DTSTAMP:20180226T172822
CREATED:20180202T014813Z
LAST-MODIFIED:20180208T000430Z
UID:3822-1525975200-1525984200@www.thecraftandco.com.au
SUMMARY:Limoncello Class
DESCRIPTION:This is a practical class run by our distillery team where we teach you how limoncello is made.\nWe will guide you through the management and preparation of the ingredients and discuss the recipe we use\, while you prepare the citrus\, botanicals and alcohol. Each participant will receive their own bottle of limoncello to enjoy at home! \n
URL:http://www.thecraftandco.com.au/event/limoncello-class-2/
LOCATION:390 Smith St\, Collingwood\, Victoria\, 3066\, Australia
GEO:-37.797026;144.984831
X-APPLE-STRUCTURED-LOCATION;VALUE=URI;X-ADDRESS=390 Smith St Collingwood Victoria 3066 Australia;X-APPLE-RADIUS=500;X-TITLE=390 Smith St:geo:144.984831,-37.797026
ATTACH;FMTTYPE=image/jpeg:http://www.thecraftandco.com.au/wp-content/uploads/2018/02/limoncello_melbourne.jpg
ORGANIZER;CN="The%20Craft%20%26%20Co":MAILTO:info@thecraftandco.com.au
END:VEVENT
BEGIN:VEVENT
DTSTART;TZID=UTC+11:20180517T180000
DTEND;TZID=UTC+11:20180517T203000
DTSTAMP:20180226T172822
CREATED:20180202T012656Z
LAST-MODIFIED:20180208T020704Z
UID:3812-1526580000-1526589000@www.thecraftandco.com.au
SUMMARY:Cheese Class (Mozzarella/Provola)
DESCRIPTION:Work with our in house cheesemakers to fashion your own curds in this hands-on session focussing on mozzarella and provola cheese. \nThese classes give you the basics on creating your own cows milk cheeses at home\, whilst also covering the fundamentals of cheese making overall. Included in the ticket price is a beverage on arrival made by The Craft & Co and a selection of house-made charcuterie & cheese. \n
URL:http://www.thecraftandco.com.au/event/cheese-class-mozzarella-provola-2/
LOCATION:390 Smith St\, Collingwood\, Victoria\, 3066\, Australia
GEO:-37.797026;144.984831
X-APPLE-STRUCTURED-LOCATION;VALUE=URI;X-ADDRESS=390 Smith St Collingwood Victoria 3066 Australia;X-APPLE-RADIUS=500;X-TITLE=390 Smith St:geo:144.984831,-37.797026
ATTACH;FMTTYPE=image/jpeg:http://www.thecraftandco.com.au/wp-content/uploads/2018/02/mozzarella_thats_amore.jpg
ORGANIZER;CN="The%20Craft%20%26%20Co":MAILTO:info@thecraftandco.com.au
END:VEVENT
BEGIN:VEVENT
DTSTART;TZID=UTC+11:20180524T180000
DTEND;TZID=UTC+11:20180524T200000
DTSTAMP:20180226T172822
CREATED:20180202T001626Z
LAST-MODIFIED:20180208T014224Z
UID:3799-1527184800-1527192000@www.thecraftandco.com.au
SUMMARY:Pasta Class (Long Pasta)
DESCRIPTION:Master the art of making your own fresh pasta! This hands on class takes you through all you need to know about making longer-styled pasta. With expert guidance this workshop is designed to get you making pasta at home like a pro! \nRoll up your sleeves and put some muscle into making your own dough as we discuss the history of pasta shapes and regional origins\, offer tips on how to knead\, fold\, cut and roll to achieve the pasta shape\, and look at when to use the different cuts of pasta and sauce styles to suit. Also included in the ticket price is a beverage on arrival made by The Craft & Co and a selection of house-made charcuterie & cheese. \n
URL:http://www.thecraftandco.com.au/event/pasta-class-long-pasta-2/
LOCATION:390 Smith St\, Collingwood\, Victoria\, 3066\, Australia
GEO:-37.797026;144.984831
X-APPLE-STRUCTURED-LOCATION;VALUE=URI;X-ADDRESS=390 Smith St Collingwood Victoria 3066 Australia;X-APPLE-RADIUS=500;X-TITLE=390 Smith St:geo:144.984831,-37.797026
ATTACH;FMTTYPE=image/jpeg:http://www.thecraftandco.com.au/wp-content/uploads/2018/02/Pasta-Making-web-35.jpg
ORGANIZER;CN="The%20Craft%20%26%20Co":MAILTO:info@thecraftandco.com.au
END:VEVENT
BEGIN:VEVENT
DTSTART;TZID=UTC+11:20180524T180000
DTEND;TZID=UTC+11:20180524T200000
DTSTAMP:20180226T172822
CREATED:20180202T011658Z
LAST-MODIFIED:20180216T040343Z
UID:3808-1527184800-1527192000@www.thecraftandco.com.au
SUMMARY:Brewing Class
DESCRIPTION:All Grain Brewing is all about flavour. Extracting sugars from malted grains is the basis for making many beers and spirits. \nThis informative and interactive class teaches you to make your own fresh wort to use at home in your next brew! Working in small groups\, you will get to determine the style of beer you want to make and then be guided through the process of creating your own fresh wort recipe. \nOur brewers will walk you through; extract brewing\, the selection of ingredients\, the roles they play in different styles of beer and the equipment commonly used. \nAt the conclusion of the session\, participants will have their own fresh wort to complete the brewing process at home and create their very own craft beer to share with friends and family! Complete the experience and quench your thirst with a tasting of our brews and house-made charcuterie and cheese. \n
URL:http://www.thecraftandco.com.au/event/brewing-class-4/
LOCATION:390 Smith St\, Collingwood\, Victoria\, 3066\, Australia
GEO:-37.797026;144.984831
X-APPLE-STRUCTURED-LOCATION;VALUE=URI;X-ADDRESS=390 Smith St Collingwood Victoria 3066 Australia;X-APPLE-RADIUS=500;X-TITLE=390 Smith St:geo:144.984831,-37.797026
ATTACH;FMTTYPE=image/jpeg:http://www.thecraftandco.com.au/wp-content/uploads/2018/02/Beer-Making-13-web.jpg
ORGANIZER;CN="The%20Craft%20%26%20Co":MAILTO:info@thecraftandco.com.au
END:VEVENT
BEGIN:VEVENT
DTSTART;TZID=UTC+11:20180607T180000
DTEND;TZID=UTC+11:20180607T203000
DTSTAMP:20180226T172822
CREATED:20180202T001324Z
LAST-MODIFIED:20180207T233915Z
UID:3796-1528394400-1528403400@www.thecraftandco.com.au
SUMMARY:Gin Class
DESCRIPTION:It’s the class you demanded – and we listened! Come and be a distiller with us for an evening. \nWorking in groups of 2 on our mini stills\, you’ll get to make your very own gin. Throughout the evening we’ll discuss the colourful history of gin and the way botanicals both modern and traditional contribute to the flavour and style of a gin. With new knowledge at hand\, deliberate over botanical selection and flavour alchemy before putting it all together as your own recipe and watch the magic of distillation happen before your very eyes! You’ll even get to wax seal your own signature gin in a 200ml bottle\, ready to make your favourite G&T\, negroni or martini. Complete the experience with a tasting of house-produced drinks\, matched with charcuterie and cheese. \n
URL:http://www.thecraftandco.com.au/event/gin-class-3/
LOCATION:390 Smith St\, Collingwood\, Victoria\, 3066\, Australia
GEO:-37.797026;144.984831
X-APPLE-STRUCTURED-LOCATION;VALUE=URI;X-ADDRESS=390 Smith St Collingwood Victoria 3066 Australia;X-APPLE-RADIUS=500;X-TITLE=390 Smith St:geo:144.984831,-37.797026
ATTACH;FMTTYPE=image/jpeg:http://www.thecraftandco.com.au/wp-content/uploads/2018/02/distillation_class_melbourne.jpg
ORGANIZER;CN="The%20Craft%20%26%20Co":MAILTO:info@thecraftandco.com.au
END:VEVENT
BEGIN:VEVENT
DTSTART;TZID=UTC+11:20180607T180000
DTEND;TZID=UTC+11:20180607T200000
DTSTAMP:20180226T172822
CREATED:20180202T013325Z
LAST-MODIFIED:20180208T014258Z
UID:3819-1528394400-1528401600@www.thecraftandco.com.au
SUMMARY:Pasta Class (Filled Pasta)
DESCRIPTION:Master the art of making your own fresh pasta! This hands on class takes you through all you need to know about making filled pasta. With expert guidance this workshop is designed to get you making pasta at home like a pro! \nRoll up your sleeves and put some muscle into making your own dough as we discuss the history of pasta shapes and regional origins\, offer tips on how to knead\, fold\, cut and roll to achieve the pasta shape\, and look at when to use the different cuts of pasta and sauce styles to suit. Also included in the ticket price is a beverage on arrival made by The Craft & Co and a selection of house-made charcuterie & cheese. \n
URL:http://www.thecraftandco.com.au/event/pasta-class-filled-pasta-3/
LOCATION:390 Smith St\, Collingwood\, Victoria\, 3066\, Australia
GEO:-37.797026;144.984831
X-APPLE-STRUCTURED-LOCATION;VALUE=URI;X-ADDRESS=390 Smith St Collingwood Victoria 3066 Australia;X-APPLE-RADIUS=500;X-TITLE=390 Smith St:geo:144.984831,-37.797026
ATTACH;FMTTYPE=image/jpeg:http://www.thecraftandco.com.au/wp-content/uploads/2018/02/Pasta-Making-web-63.jpg
ORGANIZER;CN="The%20Craft%20%26%20Co":MAILTO:info@thecraftandco.com.au
END:VEVENT
END:VCALENDAR